BEGIN:VCALENDAR
VERSION:2.0
PRODID:-//Piara Waters Senior High School - ECPv6.15.20//NONSGML v1.0//EN
CALSCALE:GREGORIAN
METHOD:PUBLISH
X-WR-CALNAME:Piara Waters Senior High School
X-ORIGINAL-URL:https://www.piarawatersshs.wa.edu.au
X-WR-CALDESC:Events for Piara Waters Senior High School
REFRESH-INTERVAL;VALUE=DURATION:PT1H
X-Robots-Tag:noindex
X-PUBLISHED-TTL:PT1H
BEGIN:VTIMEZONE
TZID:Australia/Perth
BEGIN:STANDARD
TZOFFSETFROM:+0800
TZOFFSETTO:+0800
TZNAME:AWST
DTSTART:20240101T000000
END:STANDARD
END:VTIMEZONE
BEGIN:VEVENT
DTSTART;VALUE=DATE:20260406
DTEND;VALUE=DATE:20260407
DTSTAMP:20260425T013237
CREATED:20260128T075654Z
LAST-MODIFIED:20260214T093950Z
UID:3326-1775433600-1775519999@www.piarawatersshs.wa.edu.au
SUMMARY:(Public Holiday) Easter Monday
DESCRIPTION:Students DO NOT Attend School on this day.
URL:https://www.piarawatersshs.wa.edu.au/event/easter-monday/
CATEGORIES:Important Dates
END:VEVENT
BEGIN:VEVENT
DTSTART;VALUE=DATE:20260403
DTEND;VALUE=DATE:20260404
DTSTAMP:20260425T013237
CREATED:20260128T075620Z
LAST-MODIFIED:20260214T093955Z
UID:3324-1775174400-1775260799@www.piarawatersshs.wa.edu.au
SUMMARY:(Public Holiday) Good Friday
DESCRIPTION:Students DO NOT Attend School on this day.
URL:https://www.piarawatersshs.wa.edu.au/event/good-friday/
CATEGORIES:Important Dates
END:VEVENT
BEGIN:VEVENT
DTSTART;VALUE=DATE:20260327
DTEND;VALUE=DATE:20260328
DTSTAMP:20260425T013237
CREATED:20260214T092219Z
LAST-MODIFIED:20260327T010738Z
UID:3549-1774569600-1774655999@www.piarawatersshs.wa.edu.au
SUMMARY:AEP Applications Open
DESCRIPTION:Academic Excellence Program – Registration to Apply and Attend the Higher Ability Selection Test (HAST) Testing \nFriday June 5 – 9am to 12pm \nFor students entering Year 7\, 2027 \nThe Academic Excellence Program (AEP) at Piara Waters Senior High School supports academically able and high-potential students to achieve at the highest level. The program provides a challenging and supportive learning environment that nurtures academic excellence\, personal growth\, and wellbeing. \nEntry into the AEP occurs through a selective process in Year 6\, using the Higher Ability Selection Test (HAST). Student placement is reviewed regularly to ensure the program continues to meet individual learning needs. Ongoing monitoring and support help students set goals\, manage workload\, and maintain wellbeing. \nApplications for the Academic Excellence Program open on Friday 27 March and close on Friday 15 May. \nStudents must register and attend the Higher Ability Selection Test (HAST) testing date on Friday 5th June to be eligible for consideration. \nFurther information regarding the Academic Excellence Program can be found here. \nFor more information about each test\, including sample questions and preparation resources\, please refer to the Australian Council for Educational Research Test (ACER) website – ACER \nFor additional queries regarding the Academic Excellence Program\, please email piarawaters.shs@education.wa.edu.au \n\nAdd the same link on the Academic Excellence Program Page under AEP 2026 Dates\n\nAEP applications open:  Friday 27 March (Term 1\, Week 8) to  Friday 15 May \nRegistration Link – https://compasstix.com/e/nxdxgn021u \n 
URL:https://www.piarawatersshs.wa.edu.au/event/aep-applications-open/
CATEGORIES:Important Dates
END:VEVENT
BEGIN:VEVENT
DTSTART;VALUE=DATE:20260311
DTEND;VALUE=DATE:20260324
DTSTAMP:20260425T013237
CREATED:20260214T091512Z
LAST-MODIFIED:20260214T091939Z
UID:3544-1773187200-1774310399@www.piarawatersshs.wa.edu.au
SUMMARY:NAPLAN
DESCRIPTION:
URL:https://www.piarawatersshs.wa.edu.au/event/naplan/
CATEGORIES:Important Dates,Upcoming Events
END:VEVENT
BEGIN:VEVENT
DTSTART;VALUE=DATE:20260302
DTEND;VALUE=DATE:20260303
DTSTAMP:20260425T013237
CREATED:20260128T075548Z
LAST-MODIFIED:20260214T090654Z
UID:3322-1772409600-1772495999@www.piarawatersshs.wa.edu.au
SUMMARY:(Public Holiday) Labour Day
DESCRIPTION:Students DO NOT Attend School on this day.
URL:https://www.piarawatersshs.wa.edu.au/event/labour-day/
CATEGORIES:Important Dates
END:VEVENT
BEGIN:VEVENT
DTSTART;TZID=Australia/Perth:20251219T080000
DTEND;TZID=Australia/Perth:20251219T170000
DTSTAMP:20260425T013237
CREATED:20250223T152013Z
LAST-MODIFIED:20250319T062723Z
UID:1367-1766131200-1766163600@www.piarawatersshs.wa.edu.au
SUMMARY:Pupil Free Day 6 - Term 4\, Week 10
DESCRIPTION:Students do not attend school on school development days.
URL:https://www.piarawatersshs.wa.edu.au/event/pupil-free-day-6-term-4-week-10/
CATEGORIES:Important Dates,School Development Days 2025 (Pupil Free Days)
END:VEVENT
BEGIN:VEVENT
DTSTART;VALUE=DATE:20250602
DTEND;VALUE=DATE:20250603
DTSTAMP:20260425T013237
CREATED:20250225T032447Z
LAST-MODIFIED:20250404T030742Z
UID:1679-1748822400-1748908799@www.piarawatersshs.wa.edu.au
SUMMARY:Western Australia Day (Public Holiday)
DESCRIPTION:Students do not attend school on this day as it is a public holiday.
URL:https://www.piarawatersshs.wa.edu.au/event/western-australia-day-public-holiday/
CATEGORIES:Important Dates
END:VEVENT
BEGIN:VEVENT
DTSTART;VALUE=DATE:20250428
DTEND;VALUE=DATE:20250429
DTSTAMP:20260425T013237
CREATED:20250223T151746Z
LAST-MODIFIED:20250223T153250Z
UID:1363-1745798400-1745884799@www.piarawatersshs.wa.edu.au
SUMMARY:Pupil Free Day 4 - Term 2\, Week 1
DESCRIPTION:Students do not attend school on school development days.
URL:https://www.piarawatersshs.wa.edu.au/event/pupil-free-day-4-term-2-week-1/
CATEGORIES:Important Dates,School Development Days 2025 (Pupil Free Days)
END:VEVENT
END:VCALENDAR