BEGIN:VCALENDAR
VERSION:2.0
PRODID:-//Piara Waters Senior High School - ECPv6.15.20//NONSGML v1.0//EN
CALSCALE:GREGORIAN
METHOD:PUBLISH
X-ORIGINAL-URL:https://www.piarawatersshs.wa.edu.au
X-WR-CALDESC:Events for Piara Waters Senior High School
REFRESH-INTERVAL;VALUE=DURATION:PT1H
X-Robots-Tag:noindex
X-PUBLISHED-TTL:PT1H
BEGIN:VTIMEZONE
TZID:Australia/Perth
BEGIN:STANDARD
TZOFFSETFROM:+0800
TZOFFSETTO:+0800
TZNAME:AWST
DTSTART:20250101T000000
END:STANDARD
END:VTIMEZONE
BEGIN:VEVENT
DTSTART;VALUE=DATE:20260720
DTEND;VALUE=DATE:20260721
DTSTAMP:20260425T044942
CREATED:20260128T063636Z
LAST-MODIFIED:20260128T074439Z
UID:3279-1784505600-1784591999@www.piarawatersshs.wa.edu.au
SUMMARY:School Development Day
DESCRIPTION:Students DO NOT Attend School on this day.
URL:https://www.piarawatersshs.wa.edu.au/event/school-development-day-5/
CATEGORIES:School Development Days 2025 (Pupil Free Days)
END:VEVENT
BEGIN:VEVENT
DTSTART;VALUE=DATE:20261218
DTEND;VALUE=DATE:20261219
DTSTAMP:20260425T044942
CREATED:20260128T065215Z
LAST-MODIFIED:20260128T074415Z
UID:3281-1797552000-1797638399@www.piarawatersshs.wa.edu.au
SUMMARY:School Development Day
DESCRIPTION:Students DO NOT Attend School on this day.
URL:https://www.piarawatersshs.wa.edu.au/event/school-development-day-6/
CATEGORIES:School Development Days 2025 (Pupil Free Days)
END:VEVENT
END:VCALENDAR